BEGIN:VCALENDAR
PRODID:-//Hannon Hill Events//Cascade CMS//EN
VERSION:2.0
X-WR-CALNAME:Thanksgiving (University closed).
X-WR-TIMEZONE:America/New_York
BEGIN:VTIMEZONE
TZID:America/New_York
BEGIN:DAYLIGHT
TZOFFSETFROM:-0500
TZOFFSETTO:-0400
TZNAME:EDT
DTSTART:19700308T020000
RRULE:FREQ=YEARLY;BYMONTH=3;BYDAY=2SU
END:DAYLIGHT
BEGIN:STANDARD
TZOFFSETFROM:-0400
TZOFFSETTO:-0500
TZNAME:EST
DTSTART:19701101T020000
RRULE:FREQ=YEARLY;BYMONTH=11;BYDAY=1SU
END:STANDARD
END:VTIMEZONE
BEGIN:VEVENT
DTSTART:20261126T000000
DTEND:20261127T000000
DTSTAMP:20260417T150412
UID:632e78ddac1e00d64cb8085679ac1e78
CREATED:20260215T152155
DESCRIPTION:Thanksgiving (University closed).
LAST-MODIFIED:20260215T152155
SEQUENCE:0
STATUS:CONFIRMED
SUMMARY:Thanksgiving (University closed).
TRANSP:OPAQUE
END:VEVENT
END:VCALENDAR
