BEGIN:VCALENDAR
PRODID:-//Hannon Hill Events//Cascade CMS//EN
VERSION:2.0
X-WR-CALNAME:Final day to drop 2nd 8-week class without financial/academic
 obligations.
X-WR-TIMEZONE:America/New_York
BEGIN:VTIMEZONE
TZID:America/New_York
BEGIN:DAYLIGHT
TZOFFSETFROM:-0500
TZOFFSETTO:-0400
TZNAME:EDT
DTSTART:19700308T020000
RRULE:FREQ=YEARLY;BYMONTH=3;BYDAY=2SU
END:DAYLIGHT
BEGIN:STANDARD
TZOFFSETFROM:-0400
TZOFFSETTO:-0500
TZNAME:EST
DTSTART:19701101T020000
RRULE:FREQ=YEARLY;BYMONTH=11;BYDAY=1SU
END:STANDARD
END:VTIMEZONE
BEGIN:VEVENT
DTSTART:20261016T000000
DTEND:20261016T000000
DTSTAMP:20260417T150427
UID:632388f3ac1e00d64cb808561a1fe963
CREATED:20260215T150959
DESCRIPTION:Final day to drop 2nd 8-week class without financial/academic 
obligations.
LAST-MODIFIED:20260215T150959
SEQUENCE:0
STATUS:CONFIRMED
SUMMARY:Final day to drop 2nd 8-week class without financial/academic obli
gations.
TRANSP:OPAQUE
END:VEVENT
END:VCALENDAR
