BEGIN:VCALENDAR
PRODID:-//Hannon Hill Events//Cascade CMS//EN
VERSION:2.0
X-WR-CALNAME:&#8220\;X&#8221\; and &#8220\;I&#8221\; grades due in the Off
ice of the Registrar.
X-WR-TIMEZONE:America/New_York
BEGIN:VTIMEZONE
TZID:America/New_York
BEGIN:DAYLIGHT
TZOFFSETFROM:-0500
TZOFFSETTO:-0400
TZNAME:EDT
DTSTART:19700308T020000
RRULE:FREQ=YEARLY;BYMONTH=3;BYDAY=2SU
END:DAYLIGHT
BEGIN:STANDARD
TZOFFSETFROM:-0400
TZOFFSETTO:-0500
TZNAME:EST
DTSTART:19701101T020000
RRULE:FREQ=YEARLY;BYMONTH=11;BYDAY=1SU
END:STANDARD
END:VTIMEZONE
BEGIN:VEVENT
DTSTART:20260908T000000
DTEND:20260908T000000
DTSTAMP:20260417T150434
UID:631ed02bac1e00d64cb808567a7a5dc0
CREATED:20260215T150449
DESCRIPTION:&#8220\;X&#8221\; and &#8220\;I&#8221\; grades due in the Offi
ce of the Registrar.
LAST-MODIFIED:20260215T150449
SEQUENCE:0
STATUS:CONFIRMED
SUMMARY:&#8220\;X&#8221\; and &#8220\;I&#8221\; grades due in the Office o
f the Registrar.
TRANSP:OPAQUE
END:VEVENT
END:VCALENDAR
