BEGIN:VCALENDAR
PRODID:-//Hannon Hill Events//Cascade CMS//EN
VERSION:2.0
X-WR-CALNAME:Late registration fee assessed.
X-WR-TIMEZONE:America/New_York
BEGIN:VTIMEZONE
TZID:America/New_York
BEGIN:DAYLIGHT
TZOFFSETFROM:-0500
TZOFFSETTO:-0400
TZNAME:EDT
DTSTART:19700308T020000
RRULE:FREQ=YEARLY;BYMONTH=3;BYDAY=2SU
END:DAYLIGHT
BEGIN:STANDARD
TZOFFSETFROM:-0400
TZOFFSETTO:-0500
TZNAME:EST
DTSTART:19701101T020000
RRULE:FREQ=YEARLY;BYMONTH=11;BYDAY=1SU
END:STANDARD
END:VTIMEZONE
BEGIN:VEVENT
DTSTART:20260816T000000
DTEND:20260821T000000
DTSTAMP:20260417T150415
UID:6310e347ac1e00d64cb80856727f08f8
CREATED:20260215T144937
DESCRIPTION:Late registration fee assessed.
LAST-MODIFIED:20260215T144937
SEQUENCE:0
STATUS:CONFIRMED
SUMMARY:Late registration fee assessed.
TRANSP:OPAQUE
END:VEVENT
END:VCALENDAR
