BEGIN:VCALENDAR
PRODID:-//Hannon Hill Events//Cascade CMS//EN
VERSION:2.0
X-WR-CALNAME:Last day to add classes for 1st 8-week and 16-week sessions.
X-WR-TIMEZONE:America/New_York
BEGIN:VTIMEZONE
TZID:America/New_York
BEGIN:DAYLIGHT
TZOFFSETFROM:-0500
TZOFFSETTO:-0400
TZNAME:EDT
DTSTART:19700308T020000
RRULE:FREQ=YEARLY;BYMONTH=3;BYDAY=2SU
END:DAYLIGHT
BEGIN:STANDARD
TZOFFSETFROM:-0400
TZOFFSETTO:-0500
TZNAME:EST
DTSTART:19701101T020000
RRULE:FREQ=YEARLY;BYMONTH=11;BYDAY=1SU
END:STANDARD
END:VTIMEZONE
BEGIN:VEVENT
DTSTART:20260821T000000
DTEND:20260821T000000
DTSTAMP:20260417T150417
UID:63161c43ac1e00d64cb80856987ea42b
CREATED:20260215T145519
DESCRIPTION:Last day to add classes for 1st 8-week and 16-week sessions. F
inal business day to drop a 1st 8-week or 16-week class without financial/
academic obligations.
LAST-MODIFIED:20260215T145519
SEQUENCE:0
STATUS:CONFIRMED
SUMMARY:Last day to add classes for 1st 8-week and 16-week sessions.
TRANSP:OPAQUE
END:VEVENT
END:VCALENDAR
