BEGIN:VCALENDAR
PRODID:-//Hannon Hill Events//Cascade CMS//EN
VERSION:2.0
X-WR-CALNAME:Drop-Add Week for students already registered for current sem
ester (16wk) or 1st eight-week classes
X-WR-TIMEZONE:America/New_York
BEGIN:VTIMEZONE
TZID:America/New_York
BEGIN:DAYLIGHT
TZOFFSETFROM:-0500
TZOFFSETTO:-0400
TZNAME:EDT
DTSTART:19700308T020000
RRULE:FREQ=YEARLY;BYMONTH=3;BYDAY=2SU
END:DAYLIGHT
BEGIN:STANDARD
TZOFFSETFROM:-0400
TZOFFSETTO:-0500
TZNAME:EST
DTSTART:19701101T020000
RRULE:FREQ=YEARLY;BYMONTH=11;BYDAY=1SU
END:STANDARD
END:VTIMEZONE
BEGIN:VEVENT
DTSTART:20260817T000000
DTEND:20260821T000000
DTSTAMP:20260417T150416
UID:6313d2c9ac1e00d64cb80856bce538dd
CREATED:20260215T145249
DESCRIPTION:Drop-Add Week for students already registered for current seme
ster (16wk) or 1st eight-week classes\; registration for 2nd 8-week classe
s continues.
LAST-MODIFIED:20260215T145249
SEQUENCE:0
STATUS:CONFIRMED
SUMMARY:Drop-Add Week for students already registered for current semester
 (16wk) or 1st eight-week classes
TRANSP:OPAQUE
END:VEVENT
END:VCALENDAR
