BEGIN:VCALENDAR
PRODID:-//Hannon Hill Events//Cascade CMS//EN
VERSION:2.0
X-WR-CALNAME:Spring Choral Concert
X-WR-TIMEZONE:America/New_York
BEGIN:VTIMEZONE
TZID:America/New_York
BEGIN:DAYLIGHT
TZOFFSETFROM:-0500
TZOFFSETTO:-0400
TZNAME:EDT
DTSTART:19700308T020000
RRULE:FREQ=YEARLY;BYMONTH=3;BYDAY=2SU
END:DAYLIGHT
BEGIN:STANDARD
TZOFFSETFROM:-0400
TZOFFSETTO:-0500
TZNAME:EST
DTSTART:19701101T020000
RRULE:FREQ=YEARLY;BYMONTH=11;BYDAY=1SU
END:STANDARD
END:VTIMEZONE
BEGIN:VEVENT
DTSTART:20260501T193000
DTEND:20260501T203000
DTSTAMP:20260422T124024
UID:b647322bac1e00d666595c5ccaf5059a
CREATED:20260422T124012
DESCRIPTION:LU Department of Humanities and Communications presents Lincol
n University Choir &amp\; Lincoln University Vocal Ensemble in concert.
LAST-MODIFIED:20260422T124012
SEQUENCE:0
STATUS:CONFIRMED
SUMMARY:Spring Choral Concert
TRANSP:OPAQUE
END:VEVENT
END:VCALENDAR
