BEGIN:VCALENDAR
PRODID:-//Hannon Hill Events//Cascade CMS//EN
VERSION:2.0
X-WR-CALNAME:Severe Storm Spotter Training
X-WR-TIMEZONE:America/New_York
BEGIN:VTIMEZONE
TZID:America/New_York
BEGIN:DAYLIGHT
TZOFFSETFROM:-0500
TZOFFSETTO:-0400
TZNAME:EDT
DTSTART:19700308T020000
RRULE:FREQ=YEARLY;BYMONTH=3;BYDAY=2SU
END:DAYLIGHT
BEGIN:STANDARD
TZOFFSETFROM:-0400
TZOFFSETTO:-0500
TZNAME:EST
DTSTART:19701101T020000
RRULE:FREQ=YEARLY;BYMONTH=11;BYDAY=1SU
END:STANDARD
END:VTIMEZONE
BEGIN:VEVENT
DTSTART:20260421T183000
DTEND:20260421T203000
DTSTAMP:20260417T150342
UID:92323d17ac1e00d666595c5c20a2a2c1
CREATED:20260415T123059
DESCRIPTION:RESCHEDULED - Become a trained weather spotter at this free ev
ent offered by The National Weather Service. Hosted by Lincoln University 
and Cole County EMA.
LAST-MODIFIED:20260416T083519
SEQUENCE:0
STATUS:CONFIRMED
SUMMARY:Severe Storm Spotter Training
TRANSP:OPAQUE
END:VEVENT
END:VCALENDAR
