BEGIN:VCALENDAR
PRODID:-//Hannon Hill Events//Cascade CMS//EN
VERSION:2.0
X-WR-CALNAME:ResFest 2026 Housing Application &amp\; Room Selection Inform
ational
X-WR-TIMEZONE:America/New_York
BEGIN:VTIMEZONE
TZID:America/New_York
BEGIN:DAYLIGHT
TZOFFSETFROM:-0500
TZOFFSETTO:-0400
TZNAME:EDT
DTSTART:19700308T020000
RRULE:FREQ=YEARLY;BYMONTH=3;BYDAY=2SU
END:DAYLIGHT
BEGIN:STANDARD
TZOFFSETFROM:-0400
TZOFFSETTO:-0500
TZNAME:EST
DTSTART:19701101T020000
RRULE:FREQ=YEARLY;BYMONTH=11;BYDAY=1SU
END:STANDARD
END:VTIMEZONE
BEGIN:VEVENT
DTSTART:20260401T173000
DTEND:20260401T183000
DTSTAMP:20260417T150349
UID:264276baac1e00d652e62497a39e7f1d
CREATED:20260325T132943
DESCRIPTION:Get ready for fall housing at the ResFest 2026 Housing Informa
tional. Learn the new process\, ask questions\, and enter for raffle prize
s.
LAST-MODIFIED:20260330T153318
SEQUENCE:0
STATUS:CONFIRMED
SUMMARY:ResFest 2026 Housing Application &amp\; Room Selection Information
al
TRANSP:OPAQUE
END:VEVENT
END:VCALENDAR
