BEGIN:VCALENDAR
PRODID:-//Hannon Hill Events//Cascade CMS//EN
VERSION:2.0
X-WR-CALNAME:LU Bookstore Grad Appreciation Day
X-WR-TIMEZONE:America/New_York
BEGIN:VTIMEZONE
TZID:America/New_York
BEGIN:DAYLIGHT
TZOFFSETFROM:-0500
TZOFFSETTO:-0400
TZNAME:EDT
DTSTART:19700308T020000
RRULE:FREQ=YEARLY;BYMONTH=3;BYDAY=2SU
END:DAYLIGHT
BEGIN:STANDARD
TZOFFSETFROM:-0400
TZOFFSETTO:-0500
TZNAME:EST
DTSTART:19701101T020000
RRULE:FREQ=YEARLY;BYMONTH=11;BYDAY=1SU
END:STANDARD
END:VTIMEZONE
BEGIN:VEVENT
DTSTART:20260423T090000
DTEND:20260423T163000
DTSTAMP:20260423T081002
UID:ba7611a1ac1e00d6284e08cfff28dc57
CREATED:20260423T080953
DESCRIPTION:Blue Tiger grads can enjoy a 20% discount on diploma frames\, 
clothing and gifts at LU Bookstore &#8212\; April 23rd only!
LAST-MODIFIED:20260423T080953
SEQUENCE:0
STATUS:CONFIRMED
SUMMARY:LU Bookstore Grad Appreciation Day
TRANSP:OPAQUE
END:VEVENT
END:VCALENDAR
