BEGIN:VCALENDAR
PRODID:-//Hannon Hill Events//Cascade CMS//EN
VERSION:2.0
X-WR-CALNAME:Identification &amp\; Management of Vegetable &amp\; Fruit Di
seases Training
X-WR-TIMEZONE:America/New_York
BEGIN:VTIMEZONE
TZID:America/New_York
BEGIN:DAYLIGHT
TZOFFSETFROM:-0500
TZOFFSETTO:-0400
TZNAME:EDT
DTSTART:19700308T020000
RRULE:FREQ=YEARLY;BYMONTH=3;BYDAY=2SU
END:DAYLIGHT
BEGIN:STANDARD
TZOFFSETFROM:-0400
TZOFFSETTO:-0500
TZNAME:EST
DTSTART:19701101T020000
RRULE:FREQ=YEARLY;BYMONTH=11;BYDAY=1SU
END:STANDARD
END:VTIMEZONE
BEGIN:VEVENT
DTSTART:20260427T080000
DTEND:20260427T170000
DTSTAMP:20260423T123038
UID:bb62e78bac1e00d6284e08cfe8492823
CREATED:20260423T122834
DESCRIPTION:A Train-the-Trainer program for faculty\, extension educators\
, farmer leaders and agricultural trainers on plant diseases\, management 
strategies and diagnosis.
LAST-MODIFIED:20260423T122834
SEQUENCE:0
STATUS:CONFIRMED
SUMMARY:Identification &amp\; Management of Vegetable &amp\; Fruit Disease
s Training
TRANSP:OPAQUE
END:VEVENT
END:VCALENDAR
